BEGIN:VCALENDAR
VERSION:2.0
PRODID:-//Afcsuyo - ECPv6.11.2//NONSGML v1.0//EN
CALSCALE:GREGORIAN
METHOD:PUBLISH
X-WR-CALNAME:Afcsuyo
X-ORIGINAL-URL:https://afcsuyoalumni.org
X-WR-CALDESC:Events for Afcsuyo
REFRESH-INTERVAL;VALUE=DURATION:PT1H
X-Robots-Tag:noindex
X-PUBLISHED-TTL:PT1H
BEGIN:VTIMEZONE
TZID:Africa/Lagos
BEGIN:STANDARD
TZOFFSETFROM:+0100
TZOFFSETTO:+0100
TZNAME:WAT
DTSTART:20270101T000000
END:STANDARD
END:VTIMEZONE
BEGIN:VEVENT
DTSTART;TZID=Africa/Lagos:20271217T150000
DTEND;TZID=Africa/Lagos:20271218T203000
DTSTAMP:20260417T213606
CREATED:20241007T084616Z
LAST-MODIFIED:20250425T155852Z
UID:414-1829055600-1829161800@afcsuyoalumni.org
SUMMARY:AFCSUYO REUNION 2027
DESCRIPTION:Mark your calendars! Join us on December 18\, 2027\, for a special reunion to reconnect\, reminisce\, and celebrate our shared experiences at AFCSUYO. \n✨ Date: December 18\, 2027\n✨ Time: 3pm \nThis is a fantastic opportunity to catch up with old friends\, create and share opportunities\, network with fellow alumni\, and relive the unforgettable moments we shared. There will be activities\, food\, and plenty of fun! \nLet’s make new memories while cherishing the old. Feel free to spread the word and tag your fellow alumni! \n#AFCSUYOReunion2024 #AlumniTogether #Memories
URL:https://afcsuyoalumni.org/event/afcsuyo-reunion-2024/
LOCATION:uyo\, Nigeria
ATTACH;FMTTYPE=image/jpeg:https://afcsuyoalumni.org/wp-content/uploads/2022/01/2079d89eab0415c663aababbe618931f.jpg
ORGANIZER;CN="AFCS ALUMNI":MAILTO:info@afcsuyoalumni.org
END:VEVENT
END:VCALENDAR